BEGIN:VCALENDAR
VERSION:2.0
PRODID:-//wp-events-plugin.com//7.2.3.1//EN
TZID:Europe/Bucharest
X-WR-TIMEZONE:Europe/Bucharest
BEGIN:VEVENT
UID:926@radiotimisoara.ro
DTSTART;TZID=Europe/Bucharest:20250612T100000
DTEND;TZID=Europe/Bucharest:20250612T170000
DTSTAMP:20250605T073906Z
URL:https://www.radiotimisoara.ro/agenda-evenimente/outdoor-office-day-o-z
 i-de-lucru-in-aer-liber-in-iulius-gardens
SUMMARY:Outdoor Office Day\, o zi de lucru în aer liber\, în Iulius Garde
 ns
DESCRIPTION:Outdoor Office Day aduce împreună oameni\, idei și o viziune
  mai sănătoasă și mai sustenabilă asupra modului în care lucrăm.
ATTACH;FMTTYPE=image/jpeg:https://www.radiotimisoara.ro/wp-content/uploads
 /2025/06/outdoor-office-day.jpg
CATEGORIES:_ AZI sau VIITOR,-Acces liber,Business, cariere
LOCATION:Iulius Garden\, Piața Condiliul Europei nr. 1\, Timișoara\, Timi
 ș\, România
GEO:45.765191;21.224693
X-APPLE-STRUCTURED-LOCATION;VALUE=URI;X-ADDRESS=Piața Condiliul Europei nr
 . 1\, Timișoara\, Timiș\, România;X-APPLE-RADIUS=100;X-TITLE=Iulius Gar
 den:geo:45.765191,21.224693
END:VEVENT
BEGIN:VTIMEZONE
TZID:Europe/Bucharest
X-LIC-LOCATION:Europe/Bucharest
BEGIN:DAYLIGHT
DTSTART:20250330T040000
TZOFFSETFROM:+0200
TZOFFSETTO:+0300
TZNAME:EEST
END:DAYLIGHT
END:VTIMEZONE
END:VCALENDAR