BEGIN:VCALENDAR
VERSION:2.0
PRODID:-//wp-events-plugin.com//7.2.3.1//EN
TZID:Europe/Bucharest
X-WR-TIMEZONE:Europe/Bucharest
BEGIN:VEVENT
UID:993@radiotimisoara.ro
DTSTART;TZID=Europe/Bucharest:20250726T100000
DTEND;TZID=Europe/Bucharest:20250727T100000
DTSTAMP:20250722T115130Z
URL:https://www.radiotimisoara.ro/agenda-evenimente/parada-clatitelor-2025
 -la-moneasa-program
SUMMARY:Parada Clătitelor 2025\, la Moneasa / PROGRAM
DESCRIPTION:Festivalul a ajuns la a 24-a ediție și va avea loc la sfârș
 itul lunii iulie. Invitați speciali sunt Sanda Ladoși\, Alexandru Anghel
 \, Puiu Codreanu și Alexandru Pop.
ATTACH;FMTTYPE=image/jpeg:https://www.radiotimisoara.ro/wp-content/uploads
 /2025/07/parada-clatitelor-moneasa-2025.jpg
CATEGORIES:_ AZI sau VIITOR,-Acces liber,-Festivaluri,Culinar,Folclor /
 Muzică populară,Pop-rock, Divertisment, Dans, Agrement/Turism
END:VEVENT
BEGIN:VTIMEZONE
TZID:Europe/Bucharest
X-LIC-LOCATION:Europe/Bucharest
BEGIN:DAYLIGHT
DTSTART:20250330T040000
TZOFFSETFROM:+0200
TZOFFSETTO:+0300
TZNAME:EEST
END:DAYLIGHT
END:VTIMEZONE
END:VCALENDAR