BEGIN:VCALENDAR
VERSION:2.0
PRODID:-//wp-events-plugin.com//7.2.3.1//EN
TZID:Europe/Bucharest
X-WR-TIMEZONE:Europe/Bucharest
BEGIN:VEVENT
UID:1305@radiotimisoara.ro
DTSTART;TZID=Europe/Bucharest:20251214T193000
DTEND;TZID=Europe/Bucharest:20251215T193000
DTSTAMP:20251208T113019Z
URL:https://www.radiotimisoara.ro/agenda-evenimente/penthesilea-un-recviem
 -noua-premiera-a-teatruluiu-german-timisoara-dedicata-actritei-ida-jarcsek
 -gaza
SUMMARY:”Penthesilea. Un recviem”\, noua premieră a Teatruluiu German 
 Timișoara\, dedicată actriței Ida Jarcsek-Gaza
DESCRIPTION:Premiera marchează celebrarea a 55 de ani de activitate artist
 ică a actriței Ida Jarcsek-Gaza\, una dintre figurile emblematice ale te
 atrului.
ATTACH;FMTTYPE=image/jpeg:https://www.radiotimisoara.ro/wp-content/uploads
 /2025/12/Penthesilea-premiera-teatrul-german-timisoara.jpg
CATEGORIES:Cultură
LOCATION:Teatrul German de Stat\, Str. Alba iulia Nr. 2\, Timişoara\, Timi
 ş\, România
GEO:45.754933;21.226807
X-APPLE-STRUCTURED-LOCATION;VALUE=URI;X-ADDRESS=Str. Alba iulia Nr. 2\, Tim
 işoara\, Timiş\, România;X-APPLE-RADIUS=100;X-TITLE=Teatrul German de S
 tat:geo:45.754933,21.226807
END:VEVENT
BEGIN:VTIMEZONE
TZID:Europe/Bucharest
X-LIC-LOCATION:Europe/Bucharest
BEGIN:STANDARD
DTSTART:20251026T030000
TZOFFSETFROM:+0300
TZOFFSETTO:+0200
TZNAME:EET
END:STANDARD
END:VTIMEZONE
END:VCALENDAR