BEGIN:VCALENDAR
VERSION:2.0
PRODID:-//wp-events-plugin.com//7.2.3.1//EN
TZID:Europe/Bucharest
X-WR-TIMEZONE:Europe/Bucharest
BEGIN:VEVENT
UID:929@radiotimisoara.ro
DTSTART;TZID=Europe/Bucharest:20250607T100000
DTEND;TZID=Europe/Bucharest:20250607T120000
DTSTAMP:20250606T095230Z
URL:https://www.radiotimisoara.ro/agenda-evenimente/povesti-din-vecini-in-
 parcul-padurice-din-timisoara
SUMMARY:”Povești din vecini” în Parcul Pădurice din Timișoara
DESCRIPTION:O zi pentru părinți\, bunici și copii\, cu spectacole pentru
  cei mici\, activități sportive\, kinetoterapie pentru seniori\, Cros Ol
 impic. Invitată de onoare este Simona Amânar\, multiplă campioană olim
 pică.
ATTACH;FMTTYPE=image/jpeg:https://www.radiotimisoara.ro/wp-content/uploads
 /2025/06/povesti-din-vecini.jpg
CATEGORIES:_ AZI sau VIITOR,-Acces liber,-Eveniment pentru copii,Alte
 evenimente culturale, spiritualitate,Cultură,Sport, sănătate
LOCATION:Parcul Pădurice\, Parcul Pădurice\, Timișoara\, Timiș\, Român
 ia
GEO:45.732352;21.241876
X-APPLE-STRUCTURED-LOCATION;VALUE=URI;X-ADDRESS=Parcul Pădurice\, Timișoa
 ra\, Timiș\, România;X-APPLE-RADIUS=100;X-TITLE=Parcul Pădurice:geo:45.
 732352,21.241876
END:VEVENT
BEGIN:VTIMEZONE
TZID:Europe/Bucharest
X-LIC-LOCATION:Europe/Bucharest
BEGIN:DAYLIGHT
DTSTART:20250330T040000
TZOFFSETFROM:+0200
TZOFFSETTO:+0300
TZNAME:EEST
END:DAYLIGHT
END:VTIMEZONE
END:VCALENDAR