BEGIN:VCALENDAR
VERSION:2.0
PRODID:-//wp-events-plugin.com//7.2.3.1//EN
TZID:Europe/Bucharest
X-WR-TIMEZONE:Europe/Bucharest
BEGIN:VEVENT
UID:1239@radiotimisoara.ro
DTSTART;TZID=Europe/Bucharest:20251121T180000
DTEND;TZID=Europe/Bucharest:20251121T180000
DTSTAMP:20251120T124213Z
URL:https://www.radiotimisoara.ro/agenda-evenimente/premiera-orasul-parale
 l-ecranizare-a-spectacolului-imersiv-care-a-schimbat-modul-in-care-timisoa
 ra-isi-priveste-cartierele
SUMMARY:Premiera „Orașul Paralel” – ecranizare a spectacolului imers
 iv care a schimbat modul în care Timișoara își privește cartierele
DESCRIPTION:Filmul surprinde orașul în momente care\, deși recente\, ris
 că să fie uitate și aduce în prim-plan cartiere\, situații și oameni
  pe care îi trecem\, adesea\, prea repede cu vederea. 
ATTACH;FMTTYPE=image/jpeg:https://www.radiotimisoara.ro/wp-content/uploads
 /2025/11/orasul-paralel-film.jpg
CATEGORIES:_ AZI sau VIITOR,Cultură,Film, Foto
LOCATION:Cinema Studio\, Nikolaus Lenau nr. 2\, Timișoara\, Timiș\, Româ
 nia
GEO:45.752564;21.225781
X-APPLE-STRUCTURED-LOCATION;VALUE=URI;X-ADDRESS=Nikolaus Lenau nr. 2\, Timi
 șoara\, Timiș\, România;X-APPLE-RADIUS=100;X-TITLE=Cinema Studio:geo:45
 .752564,21.225781
END:VEVENT
BEGIN:VTIMEZONE
TZID:Europe/Bucharest
X-LIC-LOCATION:Europe/Bucharest
BEGIN:STANDARD
DTSTART:20251026T030000
TZOFFSETFROM:+0300
TZOFFSETTO:+0200
TZNAME:EET
END:STANDARD
END:VTIMEZONE
END:VCALENDAR