BEGIN:VCALENDAR
VERSION:2.0
PRODID:-//wp-events-plugin.com//7.2.3.1//EN
TZID:Europe/Bucharest
X-WR-TIMEZONE:Europe/Bucharest
BEGIN:VEVENT
UID:904@radiotimisoara.ro
DTSTART;TZID=Europe/Bucharest:20250601T190000
DTEND;TZID=Europe/Bucharest:20250628T190000
DTSTAMP:20250602T085142Z
URL:https://www.radiotimisoara.ro/agenda-evenimente/programul-lunii-iunie-
 la-opera-nationala-romana-timisoara
SUMMARY:Programul lunii iunie la Opera Națională Română Timișoara
DESCRIPTION:Află care sunt spectacolele lunii\, unde poți citi detalii de
 spre fiecare dintre ele \, dar și de unde poți cumpăra bilete.
ATTACH;FMTTYPE=image/jpeg:https://www.radiotimisoara.ro/wp-content/uploads
 /2021/12/sala-opera-ev.jpg
CATEGORIES:_ AZI sau VIITOR,?Programele lunii,Cultură,Operă, balet
LOCATION:Opera Naţională Română\, Piața Victoriei (Operei)\, Timişoar
 a\, România
GEO:45.754059;21.225857
X-APPLE-STRUCTURED-LOCATION;VALUE=URI;X-ADDRESS=Piața Victoriei (Operei)\,
  Timişoara\, România;X-APPLE-RADIUS=100;X-TITLE=Opera Naţională Român
 ă:geo:45.754059,21.225857
END:VEVENT
BEGIN:VTIMEZONE
TZID:Europe/Bucharest
X-LIC-LOCATION:Europe/Bucharest
BEGIN:DAYLIGHT
DTSTART:20250330T040000
TZOFFSETFROM:+0200
TZOFFSETTO:+0300
TZNAME:EEST
END:DAYLIGHT
END:VTIMEZONE
END:VCALENDAR