BEGIN:VCALENDAR
VERSION:2.0
PRODID:-//wp-events-plugin.com//7.2.3.1//EN
TZID:Europe/Bucharest
X-WR-TIMEZONE:Europe/Bucharest
BEGIN:VEVENT
UID:884@radiotimisoara.ro
DTSTART;TZID=Europe/Bucharest:20250601T193000
DTEND;TZID=Europe/Bucharest:20250614T193000
DTSTAMP:20250515T072706Z
URL:https://www.radiotimisoara.ro/agenda-evenimente/programul-lunii-iunie-
 la-teatrul-german-de-stat-timisoara
SUMMARY:Programul lunii iunie la Teatrul German de Stat Timișoara
DESCRIPTION:Află la ce ore încep spectacolele\, citește detalii despre f
 iecare dintre ele și află de unde poți cumpăra bilete.
ATTACH;FMTTYPE=image/jpeg:https://www.radiotimisoara.ro/wp-content/uploads
 /2025/05/sluga-la-doi-stapani.jpg
CATEGORIES:_ AZI sau VIITOR,?Programele lunii,Cultură,Teatru
LOCATION:Teatrul German de Stat\, Str. Alba iulia Nr. 2\, Timişoara\, Timi
 ş\, România
GEO:45.754933;21.226807
X-APPLE-STRUCTURED-LOCATION;VALUE=URI;X-ADDRESS=Str. Alba iulia Nr. 2\, Tim
 işoara\, Timiş\, România;X-APPLE-RADIUS=100;X-TITLE=Teatrul German de S
 tat:geo:45.754933,21.226807
END:VEVENT
BEGIN:VTIMEZONE
TZID:Europe/Bucharest
X-LIC-LOCATION:Europe/Bucharest
BEGIN:DAYLIGHT
DTSTART:20250330T040000
TZOFFSETFROM:+0200
TZOFFSETTO:+0300
TZNAME:EEST
END:DAYLIGHT
END:VTIMEZONE
END:VCALENDAR