BEGIN:VCALENDAR
VERSION:2.0
PRODID:-//wp-events-plugin.com//7.2.3.1//EN
TZID:Europe/Bucharest
X-WR-TIMEZONE:Europe/Bucharest
BEGIN:VEVENT
UID:923@radiotimisoara.ro
DTSTART;TZID=Europe/Bucharest:20250602T190000
DTEND;TZID=Europe/Bucharest:20250630T190000
DTSTAMP:20250604T074303Z
URL:https://www.radiotimisoara.ro/agenda-evenimente/programul-lunii-iunie-
 la-teatrul-maghiar-de-stat-timisoara
SUMMARY:Programul lunii iunie la Teatrul Maghiar de Stat Timișoara
DESCRIPTION:Află la ce ore încep spectacolele\, citește detalii despre f
 iecare dintre ele și află de unde poți cumpăra bilete.
ATTACH;FMTTYPE=image/jpeg:https://www.radiotimisoara.ro/wp-content/uploads
 /2025/06/teatrul-maghiar-timisoara-program.jpg
CATEGORIES:_ AZI sau VIITOR,?Programele săptămânii,Cultură,Teatru
LOCATION:Teatrul Maghiar de Stat"Csiky Gergely"\, Str. Alba Iulia nr. 2\, T
 imişoara\, România
GEO:45.754208;21.226236
X-APPLE-STRUCTURED-LOCATION;VALUE=URI;X-ADDRESS=Str. Alba Iulia nr. 2\, Tim
 işoara\, România;X-APPLE-RADIUS=100;X-TITLE=Teatrul Maghiar de Stat\"Csi
 ky Gergely\":geo:45.754208,21.226236
END:VEVENT
BEGIN:VTIMEZONE
TZID:Europe/Bucharest
X-LIC-LOCATION:Europe/Bucharest
BEGIN:DAYLIGHT
DTSTART:20250330T040000
TZOFFSETFROM:+0200
TZOFFSETTO:+0300
TZNAME:EEST
END:DAYLIGHT
END:VTIMEZONE
END:VCALENDAR