BEGIN:VCALENDAR
VERSION:2.0
PRODID:-//wp-events-plugin.com//7.2.3.1//EN
TZID:Europe/Bucharest
X-WR-TIMEZONE:Europe/Bucharest
BEGIN:VEVENT
UID:210@radiotimisoara.ro
DTSTART;TZID=Europe/Bucharest:20240501T190000
DTEND;TZID=Europe/Bucharest:20240531T190000
DTSTAMP:20240508T160715Z
URL:https://www.radiotimisoara.ro/agenda-evenimente/programul-lunii-mai-al
 -teatrului-national-timisoara
SUMMARY:Programul lunii mai al Teatrului Național Timișoara
DESCRIPTION:Află care sunt spectacolele lunii\, unde poți citi detalii de
 spre fiecare dintre ele \, dar și de unde poți cumpăra bilete.
ATTACH;FMTTYPE=image/jpeg:https://www.radiotimisoara.ro/wp-content/uploads
 /2024/05/victimele-datoriei.jpg
CATEGORIES:_ AZI sau VIITOR,_ÎN DESFĂȘURARE,?Programele
 lunii,Cultură,Teatru
LOCATION:Teatrul Naţional ”Mihai Eminescu”\, Str. Mărăşeşti Nr. 2\
 , Timişoara\, România
GEO:45.755069;21.225713
X-APPLE-STRUCTURED-LOCATION;VALUE=URI;X-ADDRESS=Str. Mărăşeşti Nr. 2\, 
 Timişoara\, România;X-APPLE-RADIUS=100;X-TITLE=Teatrul Naţional ”Miha
 i Eminescu”:geo:45.755069,21.225713
END:VEVENT
BEGIN:VTIMEZONE
TZID:Europe/Bucharest
X-LIC-LOCATION:Europe/Bucharest
BEGIN:DAYLIGHT
DTSTART:20240331T040000
TZOFFSETFROM:+0200
TZOFFSETTO:+0300
TZNAME:EEST
END:DAYLIGHT
END:VTIMEZONE
END:VCALENDAR