BEGIN:VCALENDAR
VERSION:2.0
PRODID:-//wp-events-plugin.com//7.2.3.1//EN
TZID:Europe/Bucharest
X-WR-TIMEZONE:Europe/Bucharest
BEGIN:VEVENT
UID:1175@radiotimisoara.ro
DTSTART;TZID=Europe/Bucharest;VALUE=DATE:20251102
DTEND;TZID=Europe/Bucharest;VALUE=DATE:20251201
DTSTAMP:20251129T193459Z
URL:https://www.radiotimisoara.ro/agenda-evenimente/programul-lunii-noiemb
 rie-la-opera-nationala-romana-timisoara
SUMMARY:Programul lunii noiembrie la Opera Națională Română Timișoara
DESCRIPTION:Află care sunt spectacolele lunii\, unde poți citi detalii de
 spre fiecare dintre ele \, dar și de unde poți cumpăra bilete.
ATTACH;FMTTYPE=image/jpeg:https://www.radiotimisoara.ro/wp-content/uploads
 /2021/12/sala-opera-ev.jpg
CATEGORIES:_ AZI sau VIITOR,?Programele lunii,Cultură,Operă, balet
LOCATION:Opera Naţională Română\, Piața Victoriei (Operei)\, Timişoar
 a\, România
GEO:45.754059;21.225857
X-APPLE-STRUCTURED-LOCATION;VALUE=URI;X-ADDRESS=Piața Victoriei (Operei)\,
  Timişoara\, România;X-APPLE-RADIUS=100;X-TITLE=Opera Naţională Român
 ă:geo:45.754059,21.225857
END:VEVENT
BEGIN:VTIMEZONE
TZID:Europe/Bucharest
X-LIC-LOCATION:Europe/Bucharest
BEGIN:STANDARD
DTSTART:20251026T030000
TZOFFSETFROM:+0300
TZOFFSETTO:+0200
TZNAME:EET
END:STANDARD
END:VTIMEZONE
END:VCALENDAR