BEGIN:VCALENDAR
VERSION:2.0
PRODID:-//wp-events-plugin.com//7.2.3.1//EN
TZID:Europe/Bucharest
X-WR-TIMEZONE:Europe/Bucharest
BEGIN:VEVENT
UID:1176@radiotimisoara.ro
DTSTART;TZID=Europe/Bucharest;VALUE=DATE:20251101
DTEND;TZID=Europe/Bucharest;VALUE=DATE:20251201
DTSTAMP:20251129T172044Z
URL:https://www.radiotimisoara.ro/agenda-evenimente/programul-lunii-noiemb
 rie-la-teatrul-german-de-stat-timisoara-2
SUMMARY:Programul lunii noiembrie la Teatrul German de Stat Timișoara
DESCRIPTION:Află la ce ore încep spectacolele\, citește detalii despre f
 iecare dintre ele și află de unde poți cumpăra bilete.
ATTACH;FMTTYPE=image/jpeg:https://www.radiotimisoara.ro/wp-content/uploads
 /2023/12/Cartea-junglei-.jpg
CATEGORIES:_ AZI sau VIITOR,?Programele lunii,Cultură,Teatru
LOCATION:Teatrul German de Stat\, Str. Alba iulia Nr. 2\, Timişoara\, Timi
 ş\, România
GEO:45.754933;21.226807
X-APPLE-STRUCTURED-LOCATION;VALUE=URI;X-ADDRESS=Str. Alba iulia Nr. 2\, Tim
 işoara\, Timiş\, România;X-APPLE-RADIUS=100;X-TITLE=Teatrul German de S
 tat:geo:45.754933,21.226807
END:VEVENT
BEGIN:VTIMEZONE
TZID:Europe/Bucharest
X-LIC-LOCATION:Europe/Bucharest
BEGIN:STANDARD
DTSTART:20251026T030000
TZOFFSETFROM:+0300
TZOFFSETTO:+0200
TZNAME:EET
END:STANDARD
END:VTIMEZONE
END:VCALENDAR