BEGIN:VCALENDAR
VERSION:2.0
PRODID:-//wp-events-plugin.com//7.2.3.1//EN
TZID:Europe/Bucharest
X-WR-TIMEZONE:Europe/Bucharest
BEGIN:VEVENT
UID:1465@radiotimisoara.ro
DTSTART;TZID=Europe/Bucharest:20260319T100000
DTEND;TZID=Europe/Bucharest:20260322T220000
DTSTAMP:20260325T131802Z
URL:https://www.radiotimisoara.ro/agenda-evenimente/salonul-de-carte-bookf
 est-2026-la-timisoara-program
SUMMARY:Salonul de Carte Bookfest 2026 la Timișoara / PROGRAM
DESCRIPTION:Salonul de Carte Bookfest revine la Timișoara în perioada 19
 –22 martie 2026\, la Centrul Regional de Afaceri\, cu un program bogat d
 edicat iubitorilor de lectură. Vizitatorii sunt așteptați cu aproximati
 v 60 de lansări de carte\, întâlniri cu autori cunoscuți și reduceri 
 la cele mai noi titluri ale primăverii.
ATTACH;FMTTYPE=image/jpeg:https://www.radiotimisoara.ro/wp-content/uploads
 /2026/03/bookfest-2026-timisoara.png
CATEGORIES:_ AZI sau VIITOR,-Acces liber,-Târguri,Cultură,Lansare de
 carte
LOCATION:Centrul Regional de Afaceri\, Bv. Eroilor de la Tisa Nr. 22\, Timi
 şoara\, România
GEO:45.746135;21.23919
X-APPLE-STRUCTURED-LOCATION;VALUE=URI;X-ADDRESS=Bv. Eroilor de la Tisa Nr. 
 22\, Timişoara\, România;X-APPLE-RADIUS=100;X-TITLE=Centrul Regional de 
 Afaceri:geo:45.746135,21.23919
END:VEVENT
BEGIN:VTIMEZONE
TZID:Europe/Bucharest
X-LIC-LOCATION:Europe/Bucharest
BEGIN:STANDARD
DTSTART:20251026T030000
TZOFFSETFROM:+0300
TZOFFSETTO:+0200
TZNAME:EET
END:STANDARD
END:VTIMEZONE
END:VCALENDAR