BEGIN:VCALENDAR
VERSION:2.0
PRODID:-//wp-events-plugin.com//7.2.3.1//EN
TZID:Europe/Bucharest
X-WR-TIMEZONE:Europe/Bucharest
BEGIN:VEVENT
UID:1158@radiotimisoara.ro
DTSTART;TZID=Europe/Bucharest:20251015T100000
DTEND;TZID=Europe/Bucharest:20251019T200000
DTSTAMP:20251013T161614Z
URL:https://www.radiotimisoara.ro/agenda-evenimente/salonul-industriei-uso
 are-editia-de-toamna-la-timisoara-4
SUMMARY:Salonul Industriei Ușoare\, ediția de toamnă\, la Timișoara
DESCRIPTION:Participă peste 50 de firme\, producători şi comercianţi di
 n întreaga ţară.
ATTACH;FMTTYPE=image/jpeg:https://www.radiotimisoara.ro/wp-content/uploads
 /2025/10/salonul-industriei-usoare.jpg
CATEGORIES:_ AZI sau VIITOR,-Acces liber,-Târguri
LOCATION:Centrul Regional de Afaceri\, Bv. Eroilor de la Tisa Nr. 22\, Timi
 şoara\, România
GEO:45.746135;21.23919
X-APPLE-STRUCTURED-LOCATION;VALUE=URI;X-ADDRESS=Bv. Eroilor de la Tisa Nr. 
 22\, Timişoara\, România;X-APPLE-RADIUS=100;X-TITLE=Centrul Regional de 
 Afaceri:geo:45.746135,21.23919
END:VEVENT
BEGIN:VTIMEZONE
TZID:Europe/Bucharest
X-LIC-LOCATION:Europe/Bucharest
BEGIN:DAYLIGHT
DTSTART:20250330T040000
TZOFFSETFROM:+0200
TZOFFSETTO:+0300
TZNAME:EEST
END:DAYLIGHT
END:VTIMEZONE
END:VCALENDAR