BEGIN:VCALENDAR
VERSION:2.0
PRODID:-//wp-events-plugin.com//7.2.3.1//EN
TZID:Europe/Bucharest
X-WR-TIMEZONE:Europe/Bucharest
BEGIN:VEVENT
UID:1177@radiotimisoara.ro
DTSTART;TZID=Europe/Bucharest:20251021T190000
DTEND;TZID=Europe/Bucharest:20251025T190000
DTSTAMP:20251024T064000Z
URL:https://www.radiotimisoara.ro/agenda-evenimente/saptamana-muzicala-de-
 exceptie-la-filarmonica-banatul-timisoara
SUMMARY:Săptămână muzicală de excepție  la Filarmonica Banatul Timiș
 oara
DESCRIPTION:Filarmonica Banatul Timișoara propune\, în perioada 21–25 o
 ctombrie 2025\, patru evenimente de înaltă ținută artistică\, reunind
  artiști de renume internațional și proiecte culturale de anvergură.
ATTACH;FMTTYPE=image/jpeg:https://www.radiotimisoara.ro/wp-content/uploads
 /2019/05/partitura-ev.jpg
CATEGORIES:_ AZI sau VIITOR,?Programele săptămânii,Concerte
 simfonice,Cultură
END:VEVENT
BEGIN:VTIMEZONE
TZID:Europe/Bucharest
X-LIC-LOCATION:Europe/Bucharest
BEGIN:DAYLIGHT
DTSTART:20250330T040000
TZOFFSETFROM:+0200
TZOFFSETTO:+0300
TZNAME:EEST
END:DAYLIGHT
END:VTIMEZONE
END:VCALENDAR