BEGIN:VCALENDAR
VERSION:2.0
PRODID:-//wp-events-plugin.com//7.2.3.1//EN
TZID:Europe/Bucharest
X-WR-TIMEZONE:Europe/Bucharest
BEGIN:VEVENT
UID:249@radiotimisoara.ro
DTSTART;TZID=Europe/Bucharest:20240525T190000
DTEND;TZID=Europe/Bucharest:20240525T190000
DTSTAMP:20240523T120356Z
URL:https://www.radiotimisoara.ro/agenda-evenimente/sarmalele-reci-vin-in-
 spatele-casei-la-timisoara
SUMMARY:Sarmalele Reci vin În Spatele Casei\, la Timișoara
DESCRIPTION:Sarmalele Reci promit un concert în care șprițul\, ironia ș
 i părerile politice se vor amesteca cu nostalgii și iubiri mai noi sau m
 ai vechi.
ATTACH;FMTTYPE=image/jpeg:https://www.radiotimisoara.ro/wp-content/uploads
 /2024/05/sarmalele-reci.jpg
CATEGORIES:_ AZI sau VIITOR,Pop-rock, Divertisment, Dans, Agrement/Turism
LOCATION:În Spatele Casei\, Strada Arieș nr. 19\, Timișoara\, Timiș\, R
 omânia
GEO:45.741055;21.239777
X-APPLE-STRUCTURED-LOCATION;VALUE=URI;X-ADDRESS=Strada Arieș nr. 19\, Timi
 șoara\, Timiș\, România;X-APPLE-RADIUS=100;X-TITLE=În Spatele Casei:ge
 o:45.741055,21.239777
END:VEVENT
BEGIN:VTIMEZONE
TZID:Europe/Bucharest
X-LIC-LOCATION:Europe/Bucharest
BEGIN:DAYLIGHT
DTSTART:20240331T040000
TZOFFSETFROM:+0200
TZOFFSETTO:+0300
TZNAME:EEST
END:DAYLIGHT
END:VTIMEZONE
END:VCALENDAR