BEGIN:VCALENDAR
VERSION:2.0
PRODID:-//wp-events-plugin.com//7.2.3.1//EN
TZID:Europe/Bucharest
X-WR-TIMEZONE:Europe/Bucharest
BEGIN:VEVENT
UID:1467@radiotimisoara.ro
DTSTART;TZID=Europe/Bucharest:20260320T103000
DTEND;TZID=Europe/Bucharest:20260320T120000
DTSTAMP:20260319T065505Z
URL:https://www.radiotimisoara.ro/agenda-evenimente/sete-de-carte-ateliere
 -de-lectura-si-educatie-ecologica-dedicate-zilei-mondiale-a-apei
SUMMARY:„Sete de Carte”: ateliere de lectură și educație ecologică\
 , dedicate Zilei Mondiale a Apei
DESCRIPTION:Atelierele din cadrul campaniei educaționale ”Sete de Carte
 ” sunt gratuite și se adresează elevilor din clasele II-IV. Evenimentu
 l se află la a șasea ediție și este organizat de Aquatim S.A.\, Admini
 strația Bazinală de Apă Banat\, Fundația Aquatim și Librăriile Cărt
 urești.\n\n
ATTACH;FMTTYPE=image/jpeg:https://www.radiotimisoara.ro/wp-content/uploads
 /2026/03/sete-de-carte_aquatim.jpeg
CATEGORIES:_ AZI sau VIITOR,-Acces liber,-Eveniment pentru copii
END:VEVENT
BEGIN:VTIMEZONE
TZID:Europe/Bucharest
X-LIC-LOCATION:Europe/Bucharest
BEGIN:STANDARD
DTSTART:20251026T030000
TZOFFSETFROM:+0300
TZOFFSETTO:+0200
TZNAME:EET
END:STANDARD
END:VTIMEZONE
END:VCALENDAR