BEGIN:VCALENDAR
VERSION:2.0
PRODID:-//wp-events-plugin.com//7.2.3.1//EN
TZID:Europe/Bucharest
X-WR-TIMEZONE:Europe/Bucharest
BEGIN:VEVENT
UID:1237@radiotimisoara.ro
DTSTART;TZID=Europe/Bucharest:20251121T130000
DTEND;TZID=Europe/Bucharest:20251207T130000
DTSTAMP:20251119T115619Z
URL:https://www.radiotimisoara.ro/agenda-evenimente/sezonul-de-grafica-la-
 mnart-continua-cu-o-noua-expozitie-dedicata-cartii-de-colectie
SUMMARY:„Sezonul de Grafică la MNArT” continuă cu o nouă expoziție 
   dedicată cărții de colecție
DESCRIPTION:Expoziția reunește proiecte create între anii 2010–2025 de
  studenții specializării Grafică din cadrul Facultății de Arte și De
 sign a Universității de Vest din Timișoara\, aducând în prim-plan car
 tea de colecție\, de artist sau de autor.
ATTACH;FMTTYPE=image/jpeg:https://www.radiotimisoara.ro/wp-content/uploads
 /2025/11/carte-bibliofila.jpeg
CATEGORIES:_ AZI sau VIITOR,-Acces liber,Cultură,Expoziție
LOCATION:Muzeul Național de Artă Timișoara\, Muzeul Național de Artă T
 imișoara\, Timișoara\, 300115\, România
GEO:45.757419;21.229293
X-APPLE-STRUCTURED-LOCATION;VALUE=URI;X-ADDRESS=Muzeul Național de Artă T
 imișoara\, Timișoara\, 300115\, România;X-APPLE-RADIUS=100;X-TITLE=Muze
 ul Național de Artă Timișoara:geo:45.757419,21.229293
END:VEVENT
BEGIN:VTIMEZONE
TZID:Europe/Bucharest
X-LIC-LOCATION:Europe/Bucharest
BEGIN:STANDARD
DTSTART:20251026T030000
TZOFFSETFROM:+0300
TZOFFSETTO:+0200
TZNAME:EET
END:STANDARD
END:VTIMEZONE
END:VCALENDAR