BEGIN:VCALENDAR
VERSION:2.0
PRODID:-//wp-events-plugin.com//7.2.3.1//EN
TZID:Europe/Bucharest
X-WR-TIMEZONE:Europe/Bucharest
BEGIN:VEVENT
UID:104@radiotimisoara.ro
DTSTART;TZID=Europe/Bucharest:20240317T170000
DTEND;TZID=Europe/Bucharest:20240317T170000
DTSTAMP:20240229T085825Z
URL:https://www.radiotimisoara.ro/agenda-evenimente/spectacolul-1978-al-te
 atrul-maghiar-timisoara-are-doua-nominalizari-la-gala-premiilor-uniter
SUMMARY:Spectacolul „1978” al Teatrul Maghiar Timișoara are două nomi
 nalizări la Gala Premiilor UNITER
DESCRIPTION:Spectacolul\, în regia lui Tomi Janežič\, a fost nominalizat
  pentru Cel mai bun spectacol al anului 2023 și Cea mai bună scenografie
  (autor Branko Hojnik).
ATTACH;FMTTYPE=image/jpeg:https://www.radiotimisoara.ro/wp-content/uploads
 /2024/02/1978_premier_Belo-35.jpg
CATEGORIES:_ AZI sau VIITOR,Teatru
LOCATION:Facultatea de Hidrotehnică a UPT\, Calea Ghirodei nr. 32\, Timiș
 oara\, Timiș\, România
GEO:45.763506;21.271905
X-APPLE-STRUCTURED-LOCATION;VALUE=URI;X-ADDRESS=Calea Ghirodei nr. 32\, Tim
 ișoara\, Timiș\, România;X-APPLE-RADIUS=100;X-TITLE=Facultatea de Hidro
 tehnică a UPT:geo:45.763506,21.271905
END:VEVENT
BEGIN:VTIMEZONE
TZID:Europe/Bucharest
X-LIC-LOCATION:Europe/Bucharest
BEGIN:STANDARD
DTSTART:20231029T030000
TZOFFSETFROM:+0300
TZOFFSETTO:+0200
TZNAME:EET
END:STANDARD
END:VTIMEZONE
END:VCALENDAR