BEGIN:VCALENDAR
VERSION:2.0
PRODID:-//wp-events-plugin.com//7.2.3.1//EN
TZID:Europe/Bucharest
X-WR-TIMEZONE:Europe/Bucharest
BEGIN:VEVENT
UID:1380@radiotimisoara.ro
DTSTART;TZID=Europe/Bucharest:20260115T190000
DTEND;TZID=Europe/Bucharest:20260115T190000
DTSTAMP:20260115T103359Z
URL:https://www.radiotimisoara.ro/agenda-evenimente/spectacolul-eminescu-d
 e-ziua-culturii-nationale-la-teatrul-national-timisoara-2
SUMMARY:Spectacolul ”Eminescu” de Ziua Culturii Naționale\, la Teatrul
  Național Timișoara
DESCRIPTION:Spectacolul recompune traseul spiritual\, emoțional și intele
 ctual al poetului\, prin fragmente din  poezia\, proza și publicistica s
 a.
ATTACH;FMTTYPE=image/jpeg:https://www.radiotimisoara.ro/wp-content/uploads
 /2026/01/eminescu-teatrul-national-timisoara.jpeg
CATEGORIES:_ AZI sau VIITOR,Teatru
END:VEVENT
BEGIN:VTIMEZONE
TZID:Europe/Bucharest
X-LIC-LOCATION:Europe/Bucharest
BEGIN:STANDARD
DTSTART:20251026T030000
TZOFFSETFROM:+0300
TZOFFSETTO:+0200
TZNAME:EET
END:STANDARD
END:VTIMEZONE
END:VCALENDAR