BEGIN:VCALENDAR
VERSION:2.0
PRODID:-//wp-events-plugin.com//7.2.3.1//EN
TZID:Europe/Bucharest
X-WR-TIMEZONE:Europe/Bucharest
BEGIN:VEVENT
UID:428@radiotimisoara.ro
DTSTART;TZID=Europe/Bucharest:20241003T120000
DTEND;TZID=Europe/Bucharest:20250223T201500
DTSTAMP:20250204T073808Z
URL:https://www.radiotimisoara.ro/agenda-evenimente/spectacolul-imersiv-va
 n-gogh-in-premiera-la-timisoara
SUMMARY:Spectacolul imersiv „Van Gogh”\, în premieră la Timișoara
DESCRIPTION:Spectacolul itinerant al muzeului imersiv al noilor arte\, MINA
 \, este inspirat din scrisorile lui Van Gogh către fratele său și ofer
 ă publicului o incursiune captivantă în operele celebrului artist oland
 ez.
ATTACH;FMTTYPE=image/jpeg:https://www.radiotimisoara.ro/wp-content/uploads
 /2024/09/van-gogh.jpg
CATEGORIES:_ AZI sau VIITOR,_ÎN DESFĂȘURARE,Alte evenimente culturale,
 spiritualitate,Cultură
LOCATION:Iulius Town\, Piața Consiliul Europei nr. 2\, Timișoara \, Timi
 ș\, România
GEO:45.765371;21.229982
X-APPLE-STRUCTURED-LOCATION;VALUE=URI;X-ADDRESS=Piața Consiliul Europei nr
 . 2\, Timișoara \, Timiș\, România;X-APPLE-RADIUS=100;X-TITLE=Iulius To
 wn:geo:45.765371,21.229982
END:VEVENT
BEGIN:VTIMEZONE
TZID:Europe/Bucharest
X-LIC-LOCATION:Europe/Bucharest
BEGIN:DAYLIGHT
DTSTART:20240331T040000
TZOFFSETFROM:+0200
TZOFFSETTO:+0300
TZNAME:EEST
END:DAYLIGHT
BEGIN:STANDARD
DTSTART:20241027T030000
TZOFFSETFROM:+0300
TZOFFSETTO:+0200
TZNAME:EET
END:STANDARD
END:VTIMEZONE
END:VCALENDAR