BEGIN:VCALENDAR
VERSION:2.0
PRODID:-//wp-events-plugin.com//7.2.3.1//EN
TZID:Europe/Bucharest
X-WR-TIMEZONE:Europe/Bucharest
BEGIN:VEVENT
UID:919@radiotimisoara.ro
DTSTART;TZID=Europe/Bucharest:20250602T160000
DTEND;TZID=Europe/Bucharest:20250615T160000
DTSTAMP:20250602T172119Z
URL:https://www.radiotimisoara.ro/agenda-evenimente/sunscape-festival-o-ca
 latorie-educativa-in-universul-artei-prin-intermediul-luminii-program
SUMMARY:Sunscape Festival\, o călătorie educativă în universul artei pr
 in intermediul luminii / PROGRAM
DESCRIPTION:Festival Sunscape este un proiect artistic și educativ dedicat
  explorării și exprimării soarelui și luminii\, printr-o combinație u
 nică de fotografie\, muzică ambientală și artă vizuală.
ATTACH;FMTTYPE=image/jpeg:https://www.radiotimisoara.ro/wp-content/uploads
 /2025/06/sunscape-festival-2025.jpg
CATEGORIES:_ AZI sau VIITOR,-Festivaluri,Pop-rock, Divertisment, Dans,
 Agrement/Turism
LOCATION:Centrul de Cultură și Artă Timiș\, Str. Emanoil Ungureanu Nr. 
 1\, Timișoara\, Timiș\, România
GEO:45.756038;21.226873
X-APPLE-STRUCTURED-LOCATION;VALUE=URI;X-ADDRESS=Str. Emanoil Ungureanu Nr. 
 1\, Timișoara\, Timiș\, România;X-APPLE-RADIUS=100;X-TITLE=Centrul de C
 ultură și Artă Timiș:geo:45.756038,21.226873
END:VEVENT
BEGIN:VTIMEZONE
TZID:Europe/Bucharest
X-LIC-LOCATION:Europe/Bucharest
BEGIN:DAYLIGHT
DTSTART:20250330T040000
TZOFFSETFROM:+0200
TZOFFSETTO:+0300
TZNAME:EEST
END:DAYLIGHT
END:VTIMEZONE
END:VCALENDAR