BEGIN:VCALENDAR
VERSION:2.0
PRODID:-//wp-events-plugin.com//7.2.3.1//EN
TZID:Europe/Bucharest
X-WR-TIMEZONE:Europe/Bucharest
BEGIN:VEVENT
UID:1215@radiotimisoara.ro
DTSTART;TZID=Europe/Bucharest;VALUE=DATE:20251130
DTEND;TZID=Europe/Bucharest;VALUE=DATE:20260108
DTSTAMP:20260105T154814Z
URL:https://www.radiotimisoara.ro/agenda-evenimente/targul-de-craciun-2025
 -de-la-timisoara-program
SUMMARY:Târgul de Crăciun 2025 de la Timișoara / PROGRAM
DESCRIPTION:Târgul de Crăciun din Timișoara are loc în perioada 30 noie
 mbrie – 7 ianuarie\, în Piața Victoriei\, Piața Libertății\, Piața
  Sfântul Gheorghe și Piața Unirii.
ATTACH;FMTTYPE=image/jpeg:https://www.radiotimisoara.ro/wp-content/uploads
 /2025/11/targul-de-Craciun-2025-Timisoara.jpg
CATEGORIES:_ AZI sau VIITOR,-Acces liber,-Eveniment pentru
 copii,-Târguri,?Programele lunii,Culinar,Folclor / Muzică
 populară,Pop-rock, Divertisment, Dans, Agrement/Turism
END:VEVENT
BEGIN:VTIMEZONE
TZID:Europe/Bucharest
X-LIC-LOCATION:Europe/Bucharest
BEGIN:STANDARD
DTSTART:20251026T030000
TZOFFSETFROM:+0300
TZOFFSETTO:+0200
TZNAME:EET
END:STANDARD
END:VTIMEZONE
END:VCALENDAR