BEGIN:VCALENDAR
VERSION:2.0
PRODID:-//wp-events-plugin.com//7.2.3.1//EN
TZID:Europe/Bucharest
X-WR-TIMEZONE:Europe/Bucharest
BEGIN:VEVENT
UID:260@radiotimisoara.ro
DTSTART;TZID=Europe/Bucharest:20240529T190000
DTEND;TZID=Europe/Bucharest:20240529T200000
DTSTAMP:20240609T145828Z
URL:https://www.radiotimisoara.ro/agenda-evenimente/teatru-umft-omul-din-c
 erc-de-matei-visniec
SUMMARY:teatru @UMFT: ”Omul din cerc” de Matei Vișniec
DESCRIPTION:Vedeți cum te poți ”pregăti” de sesiune\, când ești st
 udent la medicină\, cu ... teatru!
ATTACH;FMTTYPE=image/jpeg:https://www.radiotimisoara.ro/wp-content/uploads
 /2024/05/240529-Teatru-la-UMFT-Omul-din-cerc-Matei-Visniec.jpg
CATEGORIES:_ AZI sau VIITOR,Teatru
LOCATION:Bastionul Theresia*\, Str. Hector\, Timişoara\, România
GEO:45.756973;21.233798
X-APPLE-STRUCTURED-LOCATION;VALUE=URI;X-ADDRESS=Str. Hector\, Timişoara\, 
 România;X-APPLE-RADIUS=100;X-TITLE=Bastionul Theresia*:geo:45.756973,21.2
 33798
END:VEVENT
BEGIN:VTIMEZONE
TZID:Europe/Bucharest
X-LIC-LOCATION:Europe/Bucharest
BEGIN:DAYLIGHT
DTSTART:20240331T040000
TZOFFSETFROM:+0200
TZOFFSETTO:+0300
TZNAME:EEST
END:DAYLIGHT
END:VTIMEZONE
END:VCALENDAR