BEGIN:VCALENDAR
VERSION:2.0
PRODID:-//wp-events-plugin.com//7.2.3.1//EN
TZID:Europe/Bucharest
X-WR-TIMEZONE:Europe/Bucharest
BEGIN:VEVENT
UID:151@radiotimisoara.ro
DTSTART;TZID=Europe/Bucharest:20240327T193000
DTEND;TZID=Europe/Bucharest:20240327T193000
DTSTAMP:20240320T114614Z
URL:https://www.radiotimisoara.ro/agenda-evenimente/teatrul-german-timisoa
 ra-participa-cu-spectacolul-teatrul-la-campania-uniter-artisti-pentru-arti
 sti
SUMMARY:Teatrul German Timișoara participă cu spectacolul ”Teatrul” l
 a campania UNITER ”Artiști pentru artiști”
DESCRIPTION:După cum subliniază autorul Pascal Rambert\, piesa este o fic
 țiune\, chiar dacă actorii și actrițele de la TGST i-au furnizat mater
 ialul: amintiri\, experiențe\, vise legate\, în cea mai mare parte\, de 
 meseria de actor.
ATTACH;FMTTYPE=image/jpeg:https://www.radiotimisoara.ro/wp-content/uploads
 /2024/03/tgst-ev.jpg
CATEGORIES:_ AZI sau VIITOR,Cultură,Social,Teatru
END:VEVENT
BEGIN:VTIMEZONE
TZID:Europe/Bucharest
X-LIC-LOCATION:Europe/Bucharest
BEGIN:STANDARD
DTSTART:20231029T030000
TZOFFSETFROM:+0300
TZOFFSETTO:+0200
TZNAME:EET
END:STANDARD
END:VTIMEZONE
END:VCALENDAR