BEGIN:VCALENDAR
VERSION:2.0
PRODID:-//wp-events-plugin.com//7.2.3.1//EN
TZID:Europe/Bucharest
X-WR-TIMEZONE:Europe/Bucharest
BEGIN:VEVENT
UID:153@radiotimisoara.ro
DTSTART;TZID=Europe/Bucharest:20240327T170000
DTEND;TZID=Europe/Bucharest:20240327T170000
DTSTAMP:20240325T191934Z
URL:https://www.radiotimisoara.ro/agenda-evenimente/teatrul-maghiar-timiso
 ara-se-alatura-campaniei-artistii-pentru-artisti-cu-spectacolul-1978
SUMMARY:Teatrul Maghiar Timișoara se alătură campaniei „Artiștii pent
 ru artiști” cu spectacolul „1978”
DESCRIPTION:Un bilet cumpărat la spectacolul care va avea loc în 27 marti
 e\, de Ziua Mondială a Teatrului\, înseamnă o șansă în plus pentru a
 rtiștii aflați în dificultate. 
ATTACH;FMTTYPE=image/jpeg:https://www.radiotimisoara.ro/wp-content/uploads
 /2024/03/1978-1.jpg
CATEGORIES:_ AZI sau VIITOR,Cultură,Social,Teatru
LOCATION:Facultatea de Hidrotehnică a UPT\, Calea Ghirodei nr. 32\, Timiș
 oara\, Timiș\, România
GEO:45.763506;21.271905
X-APPLE-STRUCTURED-LOCATION;VALUE=URI;X-ADDRESS=Calea Ghirodei nr. 32\, Tim
 ișoara\, Timiș\, România;X-APPLE-RADIUS=100;X-TITLE=Facultatea de Hidro
 tehnică a UPT:geo:45.763506,21.271905
END:VEVENT
BEGIN:VTIMEZONE
TZID:Europe/Bucharest
X-LIC-LOCATION:Europe/Bucharest
BEGIN:STANDARD
DTSTART:20231029T030000
TZOFFSETFROM:+0300
TZOFFSETTO:+0200
TZNAME:EET
END:STANDARD
END:VTIMEZONE
END:VCALENDAR