BEGIN:VCALENDAR
VERSION:2.0
PRODID:-//wp-events-plugin.com//7.2.3.1//EN
TZID:Europe/Bucharest
X-WR-TIMEZONE:Europe/Bucharest
BEGIN:VEVENT
UID:1188@radiotimisoara.ro
DTSTART;TZID=Europe/Bucharest:20251025T080000
DTEND;TZID=Europe/Bucharest:20251026T080000
DTSTAMP:20251024T083341Z
URL:https://www.radiotimisoara.ro/agenda-evenimente/timisoara-city-maratho
 n-powered-by-upt-spiritul-politehnicii-in-miscare
SUMMARY:Timișoara City Marathon powered by UPT – Spiritul Politehnicii 
 în mișcare
DESCRIPTION:Ajuns la cea de-a noua ediție\, maratonul se desfășoară sub
  sloganul „Up to Run” și reunește mii de participanți din întreaga
  țară și din afara granițelor.
ATTACH;FMTTYPE=image/jpeg:https://www.radiotimisoara.ro/wp-content/uploads
 /2025/10/timisoara-city-marathon.jpeg
CATEGORIES:_ AZI sau VIITOR,Sport, sănătate
END:VEVENT
BEGIN:VTIMEZONE
TZID:Europe/Bucharest
X-LIC-LOCATION:Europe/Bucharest
BEGIN:DAYLIGHT
DTSTART:20250330T040000
TZOFFSETFROM:+0200
TZOFFSETTO:+0300
TZNAME:EEST
END:DAYLIGHT
BEGIN:STANDARD
DTSTART:20251026T030000
TZOFFSETFROM:+0300
TZOFFSETTO:+0200
TZNAME:EET
END:STANDARD
END:VTIMEZONE
END:VCALENDAR