BEGIN:VCALENDAR
VERSION:2.0
PRODID:-//wp-events-plugin.com//7.2.3.1//EN
TZID:Europe/Bucharest
X-WR-TIMEZONE:Europe/Bucharest
BEGIN:VEVENT
UID:1059@radiotimisoara.ro
DTSTART;TZID=Europe/Bucharest:20250922T090000
DTEND;TZID=Europe/Bucharest:20250923T090000
DTSTAMP:20250910T154405Z
URL:https://www.radiotimisoara.ro/agenda-evenimente/timisoara-devine-capit
 ala-balcanica-a-standardizarii
SUMMARY:Timișoara devine capitala balcanică a standardizării
DESCRIPTION:A 10-a Conferință Balcanică de Standardizare - Research & Ed
 ucation – Trigger NextGen Standardization are loc în 22-23 septembrie 
 2025 la Universitatea de Științele Vieții “Regele Mihai I” din Timi
 șoara.
ATTACH;FMTTYPE=image/jpeg:https://www.radiotimisoara.ro/wp-content/uploads
 /2025/09/10th-Balkan-conference.png
CATEGORIES:_ AZI sau VIITOR,Business, cariere
LOCATION:Universitatea de Științele Vieții Timișoara\, Calea Aradului n
 r. 119\, Timișoara\, Timiș\, România
GEO:45.781487;21.217327
X-APPLE-STRUCTURED-LOCATION;VALUE=URI;X-ADDRESS=Calea Aradului nr. 119\, Ti
 mișoara\, Timiș\, România;X-APPLE-RADIUS=100;X-TITLE=Universitatea de 
 Științele Vieții Timișoara:geo:45.781487,21.217327
END:VEVENT
BEGIN:VTIMEZONE
TZID:Europe/Bucharest
X-LIC-LOCATION:Europe/Bucharest
BEGIN:DAYLIGHT
DTSTART:20250330T040000
TZOFFSETFROM:+0200
TZOFFSETTO:+0300
TZNAME:EEST
END:DAYLIGHT
END:VTIMEZONE
END:VCALENDAR