BEGIN:VCALENDAR
VERSION:2.0
PRODID:-//wp-events-plugin.com//7.2.3.1//EN
TZID:Europe/Bucharest
X-WR-TIMEZONE:Europe/Bucharest
BEGIN:VEVENT
UID:457@radiotimisoara.ro
DTSTART;TZID=Europe/Bucharest:20240920T210000
DTEND;TZID=Europe/Bucharest:20240922T210000
DTSTAMP:20240918T065626Z
URL:https://www.radiotimisoara.ro/agenda-evenimente/timpul-dacilor-primul-
 festival-antic-din-timisoara-program
SUMMARY:”Timpul Dacilor”\, primul festival antic din Timișoara / PROGR
 AM
DESCRIPTION:Festivalul este o adevărată lecție de istorie interactivă d
 espre modul în care trăiau predecesorii noștri.\n
ATTACH;FMTTYPE=image/jpeg:https://www.radiotimisoara.ro/wp-content/uploads
 /2024/09/timpul-dacilor.jpg
CATEGORIES:_ AZI sau VIITOR,-Festivaluri
END:VEVENT
BEGIN:VTIMEZONE
TZID:Europe/Bucharest
X-LIC-LOCATION:Europe/Bucharest
BEGIN:DAYLIGHT
DTSTART:20240331T040000
TZOFFSETFROM:+0200
TZOFFSETTO:+0300
TZNAME:EEST
END:DAYLIGHT
END:VTIMEZONE
END:VCALENDAR