BEGIN:VCALENDAR
VERSION:2.0
PRODID:-//wp-events-plugin.com//7.2.3.1//EN
TZID:Europe/Bucharest
X-WR-TIMEZONE:Europe/Bucharest
BEGIN:VEVENT
UID:569@radiotimisoara.ro
DTSTART;TZID=Europe/Bucharest:20241113T170000
DTEND;TZID=Europe/Bucharest:20241215T210000
DTSTAMP:20241114T085200Z
URL:https://www.radiotimisoara.ro/agenda-evenimente/unde-de-niciunde-un-pr
 oiect-ce-exploreaza-intalnirile-dintre-stiinta-arta-si-viata
SUMMARY:”Unde de niciunde”\, un proiect ce explorează întâlnirile di
 ntre știință\, artă și viață
DESCRIPTION:Proiectul este un demers colectiv demarat de doi artiști și d
 oi ingineri\, respectiv Ciprian Chirileanu – artist vizual\, Ionel Mărg
 inean - inginer\, Ion Rusan – inginer și Mihai Toth – artist vizual/i
 nginer.
ATTACH;FMTTYPE=image/jpeg:https://www.radiotimisoara.ro/wp-content/uploads
 /2024/11/unde-de-niciunde-expo.jpg
CATEGORIES:_ AZI sau VIITOR,_ÎN DESFĂȘURARE,-Acces
 liber,Cultură,Expoziție
LOCATION:Pasmatex\, Str. Jiul Nr. 2\, Timişoara\, Timiș\, România
GEO:45.750315;21.216745
X-APPLE-STRUCTURED-LOCATION;VALUE=URI;X-ADDRESS=Str. Jiul Nr. 2\, Timişoar
 a\, Timiș\, România;X-APPLE-RADIUS=100;X-TITLE=Pasmatex:geo:45.750315,21
 .216745
END:VEVENT
BEGIN:VTIMEZONE
TZID:Europe/Bucharest
X-LIC-LOCATION:Europe/Bucharest
BEGIN:STANDARD
DTSTART:20241027T030000
TZOFFSETFROM:+0300
TZOFFSETTO:+0200
TZNAME:EET
END:STANDARD
END:VTIMEZONE
END:VCALENDAR