BEGIN:VCALENDAR
VERSION:2.0
PRODID:-//wp-events-plugin.com//7.2.3.1//EN
TZID:Europe/Bucharest
X-WR-TIMEZONE:Europe/Bucharest
BEGIN:VEVENT
UID:1468@radiotimisoara.ro
DTSTART;TZID=Europe/Bucharest:20260310T090000
DTEND;TZID=Europe/Bucharest:20260403T170000
DTSTAMP:20260310T171657Z
URL:https://www.radiotimisoara.ro/agenda-evenimente/versiunea-6-0-expoziti
 e-de-fotografie-la-biblioteca-judeteana-arad
SUMMARY:„Versiunea 6.0”\, expoziție de fotografie la Biblioteca Județ
 eană Arad
DESCRIPTION:Expoziția\, semnată de Mircea O. Boran\, președintele Asocia
 ției Foto Club Arad\, propune o întâlnire între tradiție și modernit
 ate\, dar și între două generații – tată și fiu.
ATTACH;FMTTYPE=image/jpeg:https://www.radiotimisoara.ro/wp-content/uploads
 /2026/03/Afis-Vernisaj-10-martie-2026-Biblioteca-Arad-1-1.jpeg
CATEGORIES:_ AZI sau VIITOR,-Acces liber,Cultură,Expoziție
LOCATION:Biblioteca Județeană „Alexandru D. Xenopol” Arad\, str. Gh. 
 Popa de Teiuş\, nr.2 - 4 \, Arad\, Arad\, România
GEO:46.176779;21.315768
X-APPLE-STRUCTURED-LOCATION;VALUE=URI;X-ADDRESS=str. Gh. Popa de Teiuş\, n
 r.2 - 4 \, Arad\, Arad\, România;X-APPLE-RADIUS=100;X-TITLE=Biblioteca Ju
 dețeană „Alexandru D. Xenopol” Arad:geo:46.176779,21.315768
END:VEVENT
BEGIN:VTIMEZONE
TZID:Europe/Bucharest
X-LIC-LOCATION:Europe/Bucharest
BEGIN:STANDARD
DTSTART:20251026T030000
TZOFFSETFROM:+0300
TZOFFSETTO:+0200
TZNAME:EET
END:STANDARD
BEGIN:DAYLIGHT
DTSTART:20260329T040000
TZOFFSETFROM:+0200
TZOFFSETTO:+0300
TZNAME:EEST
END:DAYLIGHT
END:VTIMEZONE
END:VCALENDAR