BEGIN:VCALENDAR
VERSION:2.0
PRODID:-//wp-events-plugin.com//7.2.3.1//EN
TZID:Europe/Bucharest
X-WR-TIMEZONE:Europe/Bucharest
BEGIN:VEVENT
UID:932@radiotimisoara.ro
DTSTART;TZID=Europe/Bucharest:20250608T180000
DTEND;TZID=Europe/Bucharest:20250608T180000
DTSTAMP:20250605T123846Z
URL:https://www.radiotimisoara.ro/agenda-evenimente/zilele-comunei-dudesti
 i-noi-de-rusalii
SUMMARY:Zilele Comunei Dudeștii Noi\, de Rusalii
DESCRIPTION:Programul cuprinde un spectacol de muzică și dansuri populare
 \, de dans modern și muzică corală.
ATTACH;FMTTYPE=image/jpeg:https://www.radiotimisoara.ro/wp-content/uploads
 /2025/06/zilele-comunei-dudestii-noi.jpg
CATEGORIES:_ AZI sau VIITOR,-Acces liber,-Eveniment pentru copii,Folclor /
 Muzică populară
LOCATION:Casa de Cultură Dudeștii Noi\, Dudeștii Noi\, Str. Căminului\,
  Timiș\, România
GEO:45.835847;21.101317
X-APPLE-STRUCTURED-LOCATION;VALUE=URI;X-ADDRESS=Dudeștii Noi\, Str. Cămin
 ului\, Timiș\, România;X-APPLE-RADIUS=100;X-TITLE=Casa de Cultură Dude
 știi Noi:geo:45.835847,21.101317
END:VEVENT
BEGIN:VTIMEZONE
TZID:Europe/Bucharest
X-LIC-LOCATION:Europe/Bucharest
BEGIN:DAYLIGHT
DTSTART:20250330T040000
TZOFFSETFROM:+0200
TZOFFSETTO:+0300
TZNAME:EEST
END:DAYLIGHT
END:VTIMEZONE
END:VCALENDAR