BEGIN:VCALENDAR
VERSION:2.0
PRODID:-//wp-events-plugin.com//7.2.3.1//EN
TZID:Europe/Bucharest
X-WR-TIMEZONE:Europe/Bucharest
BEGIN:VEVENT
UID:992@radiotimisoara.ro
DTSTART;TZID=Europe/Bucharest:20250801T090000
DTEND;TZID=Europe/Bucharest:20250803T090000
DTSTAMP:20250801T064436Z
URL:https://www.radiotimisoara.ro/agenda-evenimente/ziua-timisoarei-2025-p
 rogram
SUMMARY:Ziua Timișoarei 2025 / PROGRAM
DESCRIPTION:Peste 180 de evenimente gratuite\, de la concerte\, spectacole 
 și filme\, la ateliere\, tururi ghidate și experiențe comunitare pentru
  toate gusturile\, în centrul Timișoarei și în alte peste 35 de locaț
 ii\, între 1 și 3 august.\n
ATTACH;FMTTYPE=image/jpeg:https://www.radiotimisoara.ro/wp-content/uploads
 /2025/07/ziua-timisoarei-2025.jpg
CATEGORIES:_ AZI sau VIITOR,-Acces liber,-Eveniment pentru copii,Alte
 evenimente culturale, spiritualitate,Cultură,Folclor / Muzică
 populară,Pop-rock, Divertisment, Dans, Agrement/Turism
END:VEVENT
BEGIN:VTIMEZONE
TZID:Europe/Bucharest
X-LIC-LOCATION:Europe/Bucharest
BEGIN:DAYLIGHT
DTSTART:20250330T040000
TZOFFSETFROM:+0200
TZOFFSETTO:+0300
TZNAME:EEST
END:DAYLIGHT
END:VTIMEZONE
END:VCALENDAR